Package: rhdf5 Version: 2.53.0 Command: /Library/Frameworks/R.framework/Resources/bin/R CMD check --install=check:rhdf5.install-out.txt --library=/Library/Frameworks/R.framework/Resources/library --no-vignettes --timings rhdf5_2.53.0.tar.gz StartedAt: 2025-05-06 21:33:30 -0400 (Tue, 06 May 2025) EndedAt: 2025-05-06 21:33:53 -0400 (Tue, 06 May 2025) EllapsedTime: 22.3 seconds RetCode: 0 Status: WARNINGS CheckDir: rhdf5.Rcheck Warnings: 1