Package: rhdf5 Version: 2.53.0 Command: /Library/Frameworks/R.framework/Resources/bin/R CMD build --keep-empty-dirs --no-resave-data rhdf5 StartedAt: 2025-05-06 17:27:49 -0400 (Tue, 06 May 2025) EndedAt: 2025-05-06 17:28:22 -0400 (Tue, 06 May 2025) EllapsedTime: 33.4 seconds RetCode: 0 Status: OK PackageFile: rhdf5_2.53.0.tar.gz PackageFileSize: 1.202 MiB