Package: rgsepd Version: 1.41.0 Command: F:\biocbuild\bbs-3.22-bioc\R\bin\R.exe CMD INSTALL rgsepd StartedAt: 2025-08-14 16:37:40 -0400 (Thu, 14 Aug 2025) EndedAt: 2025-08-14 16:40:37 -0400 (Thu, 14 Aug 2025) EllapsedTime: 177.7 seconds RetCode: 0 Status: OK