Package: rgsepd Version: 1.39.0 Command: E:\biocbuild\bbs-3.21-bioc\R\bin\R.exe CMD check --no-multiarch --install=check:rgsepd.install-out.txt --library=E:\biocbuild\bbs-3.21-bioc\R\library --no-vignettes --timings rgsepd_1.39.0.tar.gz StartedAt: 2025-02-17 04:29:10 -0500 (Mon, 17 Feb 2025) EndedAt: 2025-02-17 04:39:27 -0500 (Mon, 17 Feb 2025) EllapsedTime: 617.3 seconds RetCode: 0 Status: OK CheckDir: rgsepd.Rcheck Warnings: 0