Package: rgsepd Version: 1.39.0 Command: rm -rf rgsepd.buildbin-libdir && mkdir rgsepd.buildbin-libdir && /Users/biocbuild/BBS/utils/build-universal.sh rgsepd_1.39.0.tar.gz /Library/Frameworks/R.framework/Resources/bin/R rgsepd.buildbin-libdir StartedAt: 2025-02-17 00:38:48 -0500 (Mon, 17 Feb 2025) EndedAt: 2025-02-17 00:42:02 -0500 (Mon, 17 Feb 2025) EllapsedTime: 193.8 seconds RetCode: 0 Status: OK PackageFile: rgsepd_1.39.0.tgz PackageFileSize: 1.298 MiB