Package: rgoslin Version: 1.13.0 Command: /home/biocbuild/bbs-3.22-bioc/R/bin/R CMD INSTALL rgoslin StartedAt: 2025-10-15 15:08:39 -0400 (Wed, 15 Oct 2025) EndedAt: 2025-10-15 15:11:24 -0400 (Wed, 15 Oct 2025) EllapsedTime: 164.2 seconds RetCode: 0 Status: OK