Package: rgoslin Version: 1.13.0 Command: /home/biocbuild/bbs-3.22-bioc/R/bin/R CMD build --keep-empty-dirs --no-resave-data --md5 rgoslin StartedAt: 2025-10-15 19:45:38 -0400 (Wed, 15 Oct 2025) EndedAt: 2025-10-15 19:48:33 -0400 (Wed, 15 Oct 2025) EllapsedTime: 175.2 seconds RetCode: 0 Status: OK PackageFile: rgoslin_1.13.0.tar.gz PackageFileSize: 733.5 KiB