Package: rfaRm Version: 1.19.0 Command: E:\biocbuild\bbs-3.21-bioc\R\bin\R.exe CMD check --no-multiarch --install=check:rfaRm.install-out.txt --library=E:\biocbuild\bbs-3.21-bioc\R\library --no-vignettes --timings rfaRm_1.19.0.tar.gz StartedAt: 2025-02-15 04:47:23 -0500 (Sat, 15 Feb 2025) EndedAt: 2025-02-15 04:50:00 -0500 (Sat, 15 Feb 2025) EllapsedTime: 156.3 seconds RetCode: 0 Status: OK CheckDir: rfaRm.Rcheck Warnings: 0