Package: rfaRm Version: 1.19.0 Command: chmod a+r rfaRm -R && E:\biocbuild\bbs-3.21-bioc\R\bin\R.exe CMD build --keep-empty-dirs --no-resave-data rfaRm StartedAt: 2025-02-16 21:02:22 -0500 (Sun, 16 Feb 2025) EndedAt: 2025-02-16 21:03:29 -0500 (Sun, 16 Feb 2025) EllapsedTime: 66.4 seconds RetCode: 0 Status: OK PackageFile: rfaRm_1.19.0.tar.gz PackageFileSize: 441.7 KiB