Package: rfaRm Version: 1.19.0 Command: rm -rf rfaRm.buildbin-libdir && mkdir rfaRm.buildbin-libdir && E:\biocbuild\bbs-3.21-bioc\R\bin\R.exe CMD INSTALL --build --library=rfaRm.buildbin-libdir rfaRm_1.19.0.tar.gz StartedAt: 2025-02-17 08:17:28 -0500 (Mon, 17 Feb 2025) EndedAt: 2025-02-17 08:18:01 -0500 (Mon, 17 Feb 2025) EllapsedTime: 33.1 seconds RetCode: 0 Status: OK PackageFile: rfaRm_1.19.0.zip PackageFileSize: 480.6 KiB