Package: rfPred Version: 1.47.1 Command: rm -rf rfPred.buildbin-libdir && mkdir rfPred.buildbin-libdir && F:\biocbuild\bbs-3.22-bioc\R\bin\R.exe CMD INSTALL --build --library=rfPred.buildbin-libdir rfPred_1.47.1.tar.gz StartedAt: 2025-08-15 11:07:07 -0400 (Fri, 15 Aug 2025) EndedAt: 2025-08-15 11:07:28 -0400 (Fri, 15 Aug 2025) EllapsedTime: 20.4 seconds RetCode: 0 Status: OK PackageFile: rfPred_1.47.1.zip PackageFileSize: 1.083 MiB