Package: rfPred Version: 1.45.0 Command: /Library/Frameworks/R.framework/Resources/bin/R CMD INSTALL rfPred StartedAt: 2025-02-16 15:15:04 -0500 (Sun, 16 Feb 2025) EndedAt: 2025-02-16 15:15:21 -0500 (Sun, 16 Feb 2025) EllapsedTime: 17.1 seconds RetCode: 0 Status: OK