Package: rfPred Version: 1.45.0 Command: /Library/Frameworks/R.framework/Resources/bin/R CMD check --install=check:rfPred.install-out.txt --library=/Library/Frameworks/R.framework/Resources/library --no-vignettes --timings rfPred_1.45.0.tar.gz StartedAt: 2025-02-16 22:36:21 -0500 (Sun, 16 Feb 2025) EndedAt: 2025-02-16 22:37:56 -0500 (Sun, 16 Feb 2025) EllapsedTime: 95.2 seconds RetCode: 0 Status: OK CheckDir: rfPred.Rcheck Warnings: 0