Package: rfPred Version: 1.45.0 Command: rm -rf rfPred.buildbin-libdir && mkdir rfPred.buildbin-libdir && /Users/biocbuild/BBS/utils/build-universal.sh rfPred_1.45.0.tar.gz /Library/Frameworks/R.framework/Resources/bin/R rfPred.buildbin-libdir StartedAt: 2025-02-03 23:03:06 -0500 (Mon, 03 Feb 2025) EndedAt: 2025-02-03 23:03:12 -0500 (Mon, 03 Feb 2025) EllapsedTime: 6.1 seconds RetCode: 0 Status: OK PackageFile: rfPred_1.45.0.tgz PackageFileSize: 1.077 MiB