Package: rexposome Version: 1.31.0 Command: /Library/Frameworks/R.framework/Resources/bin/R CMD check --install=check:rexposome.install-out.txt --library=/Library/Frameworks/R.framework/Resources/library --no-vignettes --timings rexposome_1.31.0.tar.gz StartedAt: 2025-05-09 21:20:04 -0400 (Fri, 09 May 2025) EndedAt: 2025-05-09 21:21:10 -0400 (Fri, 09 May 2025) EllapsedTime: 65.8 seconds RetCode: 0 Status: WARNINGS CheckDir: rexposome.Rcheck Warnings: 5