Package: rexposome Version: 1.31.0 Command: /Library/Frameworks/R.framework/Resources/bin/R CMD build --keep-empty-dirs --no-resave-data rexposome StartedAt: 2025-05-09 17:30:28 -0400 (Fri, 09 May 2025) EndedAt: 2025-05-09 17:31:04 -0400 (Fri, 09 May 2025) EllapsedTime: 36.4 seconds RetCode: 0 Status: OK PackageFile: rexposome_1.31.0.tar.gz PackageFileSize: 8.652 MiB