Package: retrofit Version: 1.9.0 Command: rm -rf retrofit.buildbin-libdir && mkdir retrofit.buildbin-libdir && F:\biocbuild\bbs-3.22-bioc\R\bin\R.exe CMD INSTALL --build --library=retrofit.buildbin-libdir retrofit_1.9.0.tar.gz StartedAt: 2025-08-15 11:06:58 -0400 (Fri, 15 Aug 2025) EndedAt: 2025-08-15 11:07:29 -0400 (Fri, 15 Aug 2025) EllapsedTime: 31.1 seconds RetCode: 0 Status: OK PackageFile: retrofit_1.9.0.zip PackageFileSize: 3.98 MiB