Package: retrofit Version: 1.9.0 Maintainer: Adam Park MaintainerEmail: akp6031 at psu.edu git_url: https://git.bioconductor.org/packages/retrofit git_branch: devel git_last_commit: 38c03ca git_last_commit_date: 2025-04-15 13:14:30 -0400 (Tue, 15 Apr 2025)