Package: regutools Version: 1.21.0 Command: /home/biocbuild/bbs-3.22-bioc/R/bin/R CMD INSTALL regutools StartedAt: 2025-10-01 16:02:50 -0400 (Wed, 01 Oct 2025) EndedAt: 2025-10-01 16:04:21 -0400 (Wed, 01 Oct 2025) EllapsedTime: 91.0 seconds RetCode: 0 Status: OK