Package: regutools Version: 1.21.0 Command: /home/biocbuild/bbs-3.22-bioc/R/bin/R CMD build --keep-empty-dirs --no-resave-data --md5 regutools StartedAt: 2025-10-01 19:57:17 -0400 (Wed, 01 Oct 2025) EndedAt: 2025-10-01 19:58:43 -0400 (Wed, 01 Oct 2025) EllapsedTime: 86.1 seconds RetCode: 0 Status: OK PackageFile: regutools_1.21.0.tar.gz PackageFileSize: 375.6 KiB