Package: regutools Version: 1.19.0 Command: /home/biocbuild/bbs-3.21-bioc/R/bin/R CMD INSTALL regutools StartedAt: 2025-02-14 15:45:04 -0500 (Fri, 14 Feb 2025) EndedAt: 2025-02-14 15:45:58 -0500 (Fri, 14 Feb 2025) EllapsedTime: 54.3 seconds RetCode: 0 Status: OK