Package: regutools Version: 1.23.0 Command: rm -rf regutools.buildbin-libdir && mkdir regutools.buildbin-libdir && /Users/biocbuild/BBS/utils/build-universal.sh regutools_1.23.0.tar.gz /Library/Frameworks/R.framework/Resources/bin/R regutools.buildbin-libdir StartedAt: 2025-11-19 01:47:25 -0500 (Wed, 19 Nov 2025) EndedAt: 2025-11-19 01:48:46 -0500 (Wed, 19 Nov 2025) EllapsedTime: 80.7 seconds RetCode: 0 Status: OK PackageFile: regutools_1.23.0.tgz PackageFileSize: 944.1 KiB