Package: regsplice Version: 1.33.0 Command: rm -rf regsplice.buildbin-libdir && mkdir regsplice.buildbin-libdir && /Users/biocbuild/BBS/utils/build-universal.sh regsplice_1.33.0.tar.gz /Library/Frameworks/R.framework/Resources/bin/R regsplice.buildbin-libdir StartedAt: 2025-02-17 00:38:17 -0500 (Mon, 17 Feb 2025) EndedAt: 2025-02-17 00:38:49 -0500 (Mon, 17 Feb 2025) EllapsedTime: 32.1 seconds RetCode: 0 Status: OK PackageFile: regsplice_1.33.0.tgz PackageFileSize: 413.5 KiB