Package: regionalpcs Version: 1.7.0 Command: /home/biocbuild/R/R/bin/R CMD INSTALL regionalpcs StartedAt: 2025-10-09 22:04:43 -0000 (Thu, 09 Oct 2025) EndedAt: 2025-10-09 22:04:45 -0000 (Thu, 09 Oct 2025) EllapsedTime: 2.0 seconds RetCode: 0 Status: OK