Package: regionReport Version: 1.43.1 Command: /home/biocbuild/R/R/bin/R CMD build --keep-empty-dirs --no-resave-data regionReport StartedAt: 2025-10-21 02:23:46 -0000 (Tue, 21 Oct 2025) EndedAt: 2025-10-21 02:25:17 -0000 (Tue, 21 Oct 2025) EllapsedTime: 91.0 seconds RetCode: 0 Status: OK PackageFile: regionReport_1.43.1.tar.gz PackageFileSize: 775.6 KiB