Package: regionReport Version: 1.41.1 Command: chmod a+r regionReport -R && E:\biocbuild\bbs-3.21-bioc\R\bin\R.exe CMD build --keep-empty-dirs --no-resave-data regionReport StartedAt: 2025-02-14 21:08:21 -0500 (Fri, 14 Feb 2025) EndedAt: 2025-02-14 21:09:50 -0500 (Fri, 14 Feb 2025) EllapsedTime: 89.2 seconds RetCode: 0 Status: OK PackageFile: regionReport_1.41.1.tar.gz PackageFileSize: 644.4 KiB