Package: regionReport Version: 1.43.0 Command: /Library/Frameworks/R.framework/Resources/bin/R CMD check --install=check:regionReport.install-out.txt --library=/Library/Frameworks/R.framework/Resources/library --no-vignettes --timings regionReport_1.43.0.tar.gz StartedAt: 2025-05-26 23:08:19 -0400 (Mon, 26 May 2025) EndedAt: 2025-05-26 23:19:04 -0400 (Mon, 26 May 2025) EllapsedTime: 645.3 seconds RetCode: 0 Status: OK CheckDir: regionReport.Rcheck Warnings: 0