Package: regionReport Version: 1.41.1 Command: /home/biocbuild/R/R/bin/R CMD check --install=check:regionReport.install-out.txt --library=/home/biocbuild/R/R/site-library --no-vignettes --timings regionReport_1.41.1.tar.gz StartedAt: 2025-01-28 14:26:42 -0000 (Tue, 28 Jan 2025) EndedAt: 2025-01-28 14:26:47 -0000 (Tue, 28 Jan 2025) EllapsedTime: 5.0 seconds RetCode: 1 Status: ERROR CheckDir: regionReport.Rcheck Warnings: NA