Package: regionReport Version: 1.41.1 Command: rm -rf regionReport.buildbin-libdir && mkdir regionReport.buildbin-libdir && /Users/biocbuild/BBS/utils/build-universal.sh regionReport_1.41.1.tar.gz /Library/Frameworks/R.framework/Resources/bin/R regionReport.buildbin-libdir StartedAt: 2025-01-30 22:26:07 -0500 (Thu, 30 Jan 2025) EndedAt: 2025-01-30 22:26:27 -0500 (Thu, 30 Jan 2025) EllapsedTime: 20.4 seconds RetCode: 0 Status: OK PackageFile: regionReport_1.41.1.tgz PackageFileSize: 695.1 KiB