Package: recoup Version: 1.37.1 Command: rm -rf recoup.buildbin-libdir && mkdir recoup.buildbin-libdir && F:\biocbuild\bbs-3.22-bioc\R\bin\R.exe CMD INSTALL --build --library=recoup.buildbin-libdir recoup_1.37.1.tar.gz StartedAt: 2025-08-15 11:05:46 -0400 (Fri, 15 Aug 2025) EndedAt: 2025-08-15 11:06:59 -0400 (Fri, 15 Aug 2025) EllapsedTime: 73.2 seconds RetCode: 0 Status: OK PackageFile: recoup_1.37.1.zip PackageFileSize: 2.696 MiB