Package: recoup Version: 1.35.0 Command: /Library/Frameworks/R.framework/Resources/bin/R CMD INSTALL recoup StartedAt: 2025-02-17 15:22:43 -0500 (Mon, 17 Feb 2025) EndedAt: 2025-02-17 15:23:41 -0500 (Mon, 17 Feb 2025) EllapsedTime: 57.3 seconds RetCode: 0 Status: OK