Package: recountmethylation Version: 1.19.0 Command: /home/biocbuild/bbs-3.22-bioc/R/bin/R CMD INSTALL recountmethylation StartedAt: 2025-10-06 15:41:27 -0400 (Mon, 06 Oct 2025) EndedAt: 2025-10-06 15:41:30 -0400 (Mon, 06 Oct 2025) EllapsedTime: 3.1 seconds RetCode: 0 Status: OK