Package: recountmethylation Version: 1.19.0 Command: /home/biocbuild/bbs-3.22-bioc/R/bin/R CMD build --keep-empty-dirs --no-resave-data --md5 recountmethylation StartedAt: 2025-10-06 19:33:11 -0400 (Mon, 06 Oct 2025) EndedAt: 2025-10-06 19:35:46 -0400 (Mon, 06 Oct 2025) EllapsedTime: 155.1 seconds RetCode: 0 Status: OK PackageFile: recountmethylation_1.19.0.tar.gz PackageFileSize: 4.826 MiB