Package: recount Version: 1.35.0 Maintainer: Leonardo Collado-Torres MaintainerEmail: lcolladotor at gmail.com git_url: https://git.bioconductor.org/packages/recount git_branch: devel git_last_commit: cddf02e git_last_commit_date: 2025-04-15 11:04:08 -0400 (Tue, 15 Apr 2025)