Package: reconsi Version: 1.21.0 Command: /home/biocbuild/bbs-3.22-bioc/R/bin/R CMD INSTALL reconsi StartedAt: 2025-10-17 15:21:20 -0400 (Fri, 17 Oct 2025) EndedAt: 2025-10-17 15:21:39 -0400 (Fri, 17 Oct 2025) EllapsedTime: 19.6 seconds RetCode: 0 Status: OK