Package: reconsi Version: 1.21.0 Command: /home/biocbuild/bbs-3.22-bioc/R/bin/R CMD build --keep-empty-dirs --no-resave-data --md5 reconsi StartedAt: 2025-10-17 19:31:08 -0400 (Fri, 17 Oct 2025) EndedAt: 2025-10-17 19:32:21 -0400 (Fri, 17 Oct 2025) EllapsedTime: 73.1 seconds RetCode: 0 Status: OK PackageFile: reconsi_1.21.0.tar.gz PackageFileSize: 129.1 KiB