Package: reconsi Version: 1.19.0 Command: /Library/Frameworks/R.framework/Resources/bin/R CMD INSTALL reconsi StartedAt: 2025-01-10 15:22:56 -0500 (Fri, 10 Jan 2025) EndedAt: 2025-01-10 15:23:03 -0500 (Fri, 10 Jan 2025) EllapsedTime: 7.5 seconds RetCode: 0 Status: OK