Package: receptLoss Version: 1.21.0 Command: /home/biocbuild/R/R/bin/R CMD build --keep-empty-dirs --no-resave-data receptLoss StartedAt: 2025-10-07 02:12:23 -0000 (Tue, 07 Oct 2025) EndedAt: 2025-10-07 02:13:05 -0000 (Tue, 07 Oct 2025) EllapsedTime: 42.0 seconds RetCode: 0 Status: OK PackageFile: receptLoss_1.21.0.tar.gz PackageFileSize: 705.8 KiB