Package: rebook Version: 1.19.0 Command: /home/biocbuild/R/R/bin/R CMD build --keep-empty-dirs --no-resave-data rebook StartedAt: 2025-09-30 02:34:32 -0000 (Tue, 30 Sep 2025) EndedAt: 2025-09-30 02:35:01 -0000 (Tue, 30 Sep 2025) EllapsedTime: 29.0 seconds RetCode: 0 Status: OK PackageFile: rebook_1.19.0.tar.gz PackageFileSize: 288.3 KiB