Package: rebook Version: 1.19.0 Command: /home/biocbuild/bbs-3.22-bioc/R/bin/R CMD INSTALL rebook StartedAt: 2025-10-23 15:12:50 -0400 (Thu, 23 Oct 2025) EndedAt: 2025-10-23 15:12:54 -0400 (Thu, 23 Oct 2025) EllapsedTime: 4.4 seconds RetCode: 0 Status: OK