Package: rebook Version: 1.19.0 Command: /home/biocbuild/bbs-3.22-bioc/R/bin/R CMD build --keep-empty-dirs --no-resave-data --md5 rebook StartedAt: 2025-10-23 19:36:58 -0400 (Thu, 23 Oct 2025) EndedAt: 2025-10-23 19:37:17 -0400 (Thu, 23 Oct 2025) EllapsedTime: 19.0 seconds RetCode: 0 Status: OK PackageFile: rebook_1.19.0.tar.gz PackageFileSize: 265.5 KiB