Package: rcellminer Version: 2.31.1 Command: rm -rf rcellminer.buildbin-libdir && mkdir rcellminer.buildbin-libdir && F:\biocbuild\bbs-3.22-bioc\R\bin\R.exe CMD INSTALL --build --library=rcellminer.buildbin-libdir rcellminer_2.31.1.tar.gz StartedAt: 2025-08-15 11:04:12 -0400 (Fri, 15 Aug 2025) EndedAt: 2025-08-15 11:05:20 -0400 (Fri, 15 Aug 2025) EllapsedTime: 68.1 seconds RetCode: 0 Status: OK PackageFile: rcellminer_2.31.1.zip PackageFileSize: 972.3 KiB