Package: rcellminer Version: 2.29.0 Command: E:\biocbuild\bbs-3.21-bioc\R\bin\R.exe CMD check --no-multiarch --install=check:rcellminer.install-out.txt --library=E:\biocbuild\bbs-3.21-bioc\R\library --no-vignettes --timings rcellminer_2.29.0.tar.gz StartedAt: 2025-02-06 05:01:32 -0500 (Thu, 06 Feb 2025) EndedAt: 2025-02-06 05:04:20 -0500 (Thu, 06 Feb 2025) EllapsedTime: 168.5 seconds RetCode: 0 Status: WARNINGS CheckDir: rcellminer.Rcheck Warnings: 1