Package: rcellminer Version: 2.29.0 Command: /home/biocbuild/bbs-3.21-bioc/R/bin/R CMD INSTALL rcellminer StartedAt: 2025-02-04 15:12:53 -0500 (Tue, 04 Feb 2025) EndedAt: 2025-02-04 15:12:59 -0500 (Tue, 04 Feb 2025) EllapsedTime: 6.0 seconds RetCode: 0 Status: OK