Package: rcellminer Version: 2.29.0 Command: /Library/Frameworks/R.framework/Resources/bin/R CMD INSTALL rcellminer StartedAt: 2025-02-04 15:24:46 -0500 (Tue, 04 Feb 2025) EndedAt: 2025-02-04 15:24:58 -0500 (Tue, 04 Feb 2025) EllapsedTime: 11.2 seconds RetCode: 0 Status: OK