Package: rcellminer Version: 2.29.0 Command: /home/biocbuild/R/R/bin/R CMD build --keep-empty-dirs --no-resave-data rcellminer StartedAt: 2025-01-29 01:32:20 -0000 (Wed, 29 Jan 2025) EndedAt: 2025-01-29 01:35:50 -0000 (Wed, 29 Jan 2025) EllapsedTime: 210.1 seconds RetCode: 0 Status: OK PackageFile: rcellminer_2.29.0.tar.gz PackageFileSize: 1011 KiB