Package: rcellminer Version: 2.31.1 Command: rm -rf rcellminer.buildbin-libdir && mkdir rcellminer.buildbin-libdir && /Users/biocbuild/BBS/utils/build-universal.sh rcellminer_2.31.1.tar.gz /Library/Frameworks/R.framework/Resources/bin/R rcellminer.buildbin-libdir StartedAt: 2025-09-30 22:52:12 -0400 (Tue, 30 Sep 2025) EndedAt: 2025-09-30 22:52:16 -0400 (Tue, 30 Sep 2025) EllapsedTime: 4.1 seconds RetCode: 0 Status: OK PackageFile: rcellminer_2.31.1.tgz PackageFileSize: 2.918 MiB