Package: rbsurv Version: 2.67.0 Command: /home/biocbuild/bbs-3.22-bioc/R/bin/R CMD INSTALL rbsurv StartedAt: 2025-10-21 15:15:17 -0400 (Tue, 21 Oct 2025) EndedAt: 2025-10-21 15:15:24 -0400 (Tue, 21 Oct 2025) EllapsedTime: 6.7 seconds RetCode: 0 Status: OK