Package: rbsurv Version: 2.67.0 Command: /home/biocbuild/bbs-3.22-bioc/R/bin/R CMD build --keep-empty-dirs --no-resave-data --md5 rbsurv StartedAt: 2025-10-20 19:27:22 -0400 (Mon, 20 Oct 2025) EndedAt: 2025-10-20 19:27:47 -0400 (Mon, 20 Oct 2025) EllapsedTime: 25.0 seconds RetCode: 0 Status: OK PackageFile: rbsurv_2.67.0.tar.gz PackageFileSize: 367.1 KiB