Package: rbsurv Version: 2.67.0 Command: /Library/Frameworks/R.framework/Resources/bin/R CMD INSTALL rbsurv StartedAt: 2025-05-02 15:13:05 -0400 (Fri, 02 May 2025) EndedAt: 2025-05-02 15:13:16 -0400 (Fri, 02 May 2025) EllapsedTime: 11.0 seconds RetCode: 0 Status: OK